BEGIN:VCALENDAR
VERSION:2.0
PRODID:-//Plone.org//NONSGML plone.app.event//EN
X-WR-TIMEZONE:Europe/Madrid
BEGIN:VEVENT
SUMMARY:Curs per aprendre a fer reflexoteràpia podal, a càrrec de Magdalena Vinuesa
DTSTART;TZID=Europe/Madrid;VALUE=DATE-TIME:20241026T170000
DTEND;TZID=Europe/Madrid;VALUE=DATE-TIME:20241026T180000
DTSTAMP;VALUE=DATE-TIME:20260425T145226Z
UID:21437042ed50eb6f482d809e9b079845
CREATED;VALUE=DATE-TIME:20240928T000000Z
CATEGORIES:Formació
LOCATION:Casal d'Entitats - Cr. Marc Mir, 15
ORGANIZER:BANC DE TEMPS DE SANT SADURNÍ D'ANOIA
COMMENT:Preu: Gratuït
Durada: Dissabtes 28 de setembre, 5, 12, 19 i 26 d'octubre, de 17 a 19 h
URL:https://www.santsadurni.cat/document.php?id=21042
END:VEVENT
END:VCALENDAR