BEGIN:VCALENDAR
VERSION:2.0
PRODID:-//Plone.org//NONSGML plone.app.event//EN
X-WR-TIMEZONE:Europe/Madrid
BEGIN:VEVENT
SUMMARY:Tast de Celler Credo al Restaurant La Perla
DTSTART;TZID=Europe/Madrid;VALUE=DATE-TIME:20241017T200000
DTEND;TZID=Europe/Madrid;VALUE=DATE-TIME:20241017T210000
DTSTAMP;VALUE=DATE-TIME:20260425T145145Z
UID:c7943014346b688e56659327a14f24bf
CREATED;VALUE=DATE-TIME:20241017T000000Z
CATEGORIES:Mostra,Cursos,Vins i caves,Gastronomia,Formació
LOCATION:Restaurant La Perla
ORGANIZER:Restaurant La Perla i Celler Credo
COMMENT:Preu: 15 &euro; (places limitades)
Durada: 1,5 h
DESCRIPTION:Tast de quatre vins tranquils de Celler Credo al restaurant La Perla
URL:https://www.santsadurni.cat/document.php?id=21095
END:VEVENT
END:VCALENDAR