BEGIN:VCALENDAR
VERSION:2.0
PRODID:-//Plone.org//NONSGML plone.app.event//EN
X-WR-TIMEZONE:Europe/Madrid
BEGIN:VEVENT
SUMMARY:Dissabtes de joc
DTSTART;TZID=Europe/Madrid;VALUE=DATE-TIME:20241123T093000
DTEND;TZID=Europe/Madrid;VALUE=DATE-TIME:20241123T103000
DTSTAMP;VALUE=DATE-TIME:20260421T153732Z
UID:cf1a257e6673201a4406d883f303093e
CREATED;VALUE=DATE-TIME:20241123T000000Z
CATEGORIES:Literatura,Infantils,Familiar
LOCATION:Biblioteca Ramon Bosch de Noya - Plaça 1er Homenatge a la Vellesa, 10
COMMENT:Durada: De 09:30 a 13:30
DESCRIPTION:Jocs de taula a la sala infantil de la biblioteca
URL:https://www.santsadurni.cat/document.php?id=21119
END:VEVENT
END:VCALENDAR