BEGIN:VCALENDAR
VERSION:2.0
PRODID:-//Plone.org//NONSGML plone.app.event//EN
X-WR-TIMEZONE:Europe/Madrid
BEGIN:VEVENT
SUMMARY:Visites gratuïtes al Cava Centre amb motiu de la Setmana del Turisme Industrial 2024
DTSTART;TZID=Europe/Madrid;VALUE=DATE-TIME:20241020T000000
DTEND;TZID=Europe/Madrid;VALUE=DATE-TIME:20241020T010000
DTSTAMP;VALUE=DATE-TIME:20260421T200143Z
UID:360bc27db8e88d1300f80ea12f4cb614
CREATED;VALUE=DATE-TIME:20241020T000000Z
CATEGORIES:Visita guiada,Vins i caves
LOCATION:Cava Centre - Cr. Hospital 23 (entrada al Centre i a l'Oficina de Turisme)
ORGANIZER:Ajuntament de Sant Sadurní d'Anoia
COMMENT:Preu: Gratuït
Durada: 1 hora
DESCRIPTION:Del 20 al 26 d'octubre el Cava Centre obre portes al públic per donar a conèixer els orígens, la història i els secrets del cava
URL:https://www.santsadurni.cat/document.php?id=21127
END:VEVENT
END:VCALENDAR