BEGIN:VCALENDAR
VERSION:2.0
PRODID:-//Plone.org//NONSGML plone.app.event//EN
X-WR-TIMEZONE:Europe/Madrid
BEGIN:VEVENT
SUMMARY:Ball Berenar del Casal Municipal
DTSTART;TZID=Europe/Madrid;VALUE=DATE-TIME:20241122T170000
DTEND;TZID=Europe/Madrid;VALUE=DATE-TIME:20241122T180000
DTSTAMP;VALUE=DATE-TIME:20260422T122410Z
UID:961f9f501b9e8d325845c069936e794b
CREATED;VALUE=DATE-TIME:20241122T000000Z
CATEGORIES:Festa
LOCATION:Casal Municipal de la Gent Gran Sant Sadurní - Ps. Can Ferrer 11
ORGANIZER:Junta del Ball Berenar
COMMENT:Preu: 12&euro;
Durada: Dues hores i mitja aprox.
URL:https://www.santsadurni.cat/document.php?id=21154
END:VEVENT
END:VCALENDAR