BEGIN:VCALENDAR
VERSION:2.0
PRODID:-//Plone.org//NONSGML plone.app.event//EN
X-WR-TIMEZONE:Europe/Madrid
BEGIN:VEVENT
SUMMARY:Ple municipal
DTSTART;TZID=Europe/Madrid;VALUE=DATE-TIME:20241022T193000
DTEND;TZID=Europe/Madrid;VALUE=DATE-TIME:20241022T203000
DTSTAMP;VALUE=DATE-TIME:20260425T160209Z
UID:7233c3535ae620b7b9448446e18f9103
CREATED;VALUE=DATE-TIME:20241022T000000Z
CATEGORIES:Ajuntament
LOCATION:Ajuntament de Sant Sadurní - Pl. Ajuntament 1
URL:https://www.santsadurni.cat/document.php?id=21171
END:VEVENT
END:VCALENDAR