BEGIN:VCALENDAR
VERSION:2.0
PRODID:-//Plone.org//NONSGML plone.app.event//EN
X-WR-TIMEZONE:Europe/Madrid
BEGIN:VEVENT
SUMMARY:Jornada tècnica: El mosquit verd, un nou repte per a la vinya
DTSTART;TZID=Europe/Madrid;VALUE=DATE-TIME:20241119T091500
DTEND;TZID=Europe/Madrid;VALUE=DATE-TIME:20241119T101500
DTSTAMP;VALUE=DATE-TIME:20260424T132147Z
UID:457f3d6f103968ea5d533bc1d9662489
CREATED;VALUE=DATE-TIME:20241119T000000Z
CATEGORIES:Exposició,Conferència,Ajuntament
LOCATION:Cava Centre - Entrada per carrer Sant Pere, 40-42
ORGANIZER:Escola Agrària de Viticultura i Enologia Mercè Rossell i Domènech, INCAVI i INNOVI, amb la col·laboració de l'Ajuntament de Sant Sadurní d'Anoia
COMMENT:Durada: 3h30
URL:https://www.santsadurni.cat/document.php?id=21179
END:VEVENT
END:VCALENDAR