BEGIN:VCALENDAR
VERSION:2.0
PRODID:-//Plone.org//NONSGML plone.app.event//EN
X-WR-TIMEZONE:Europe/Madrid
BEGIN:VEVENT
SUMMARY:Documental "Homenatge a la dignitat". Crims d'estat contra el moviment d'alliberament basc.
DTSTART;TZID=Europe/Madrid;VALUE=DATE-TIME:20241108T190000
DTEND;TZID=Europe/Madrid;VALUE=DATE-TIME:20241108T200000
DTSTAMP;VALUE=DATE-TIME:20260425T053909Z
UID:16182f417558ff4f7a074c2534390efd
CREATED;VALUE=DATE-TIME:20241108T000000Z
CATEGORIES:Conferència
LOCATION:Casal Popular el Carràs (c/Vilafranca, 1)
ORGANIZER:Casal Popular el Carràs i CUP Sant Sadurní
URL:https://www.santsadurni.cat/document.php?id=21212
END:VEVENT
END:VCALENDAR