BEGIN:VCALENDAR
VERSION:2.0
PRODID:-//Plone.org//NONSGML plone.app.event//EN
X-WR-TIMEZONE:Europe/Madrid
BEGIN:VEVENT
SUMMARY:Inauguració de l'exposició de pintura de la Júlia Ríos "Escorça: intuïció i tacte"
DTSTART;TZID=Europe/Madrid;VALUE=DATE-TIME:20241203T200000
DTEND;TZID=Europe/Madrid;VALUE=DATE-TIME:20241203T210000
DTSTAMP;VALUE=DATE-TIME:20260425T035925Z
UID:674afb3ef520eefc7022a3eb13b8c732
CREATED;VALUE=DATE-TIME:20241203T000000Z
CATEGORIES:Exposició,Mostra
LOCATION:Biblioteca Ramon Bosch de Noya - Plaça 1er Homenatge a la Vellesa, 10
ORGANIZER:Biblioteca Municipal
DESCRIPTION:L'exposició es podrà veure del 3 al 24 de desembre del 2024
URL:https://www.santsadurni.cat/document.php?id=21296
END:VEVENT
END:VCALENDAR