BEGIN:VCALENDAR
VERSION:2.0
PRODID:-//Plone.org//NONSGML plone.app.event//EN
X-WR-TIMEZONE:Europe/Madrid
BEGIN:VEVENT
SUMMARY:Lliurament del Premi de Novel·la Curta Celler de Lletres 2024 i presentació del vídeo dels 25 anys de Biblioteca
DTSTART;TZID=Europe/Madrid;VALUE=DATE-TIME:20241204T193000
DTEND;TZID=Europe/Madrid;VALUE=DATE-TIME:20241204T203000
DTSTAMP;VALUE=DATE-TIME:20260425T012130Z
UID:734c1dbf4dafb3794c3162048c4adb89
CREATED;VALUE=DATE-TIME:20241204T000000Z
CATEGORIES:Literatura
LOCATION:Biblioteca Ramon Bosch de Noya - Plaça 1er Homenatge a la Vellesa, 10
ORGANIZER:Biblioteca Municipal amb la col·laboració de l'editorial Saldonar
URL:https://www.santsadurni.cat/document.php?id=21297
END:VEVENT
END:VCALENDAR