BEGIN:VCALENDAR
VERSION:2.0
PRODID:-//Plone.org//NONSGML plone.app.event//EN
X-WR-TIMEZONE:Europe/Madrid
BEGIN:VEVENT
SUMMARY:Encesa de llums de Nadal
DTSTART;TZID=Europe/Madrid;VALUE=DATE-TIME:20241204T173000
DTEND;TZID=Europe/Madrid;VALUE=DATE-TIME:20241204T183000
DTSTAMP;VALUE=DATE-TIME:20260425T024451Z
UID:69d4cb3ca316efb5839a26e65c686a04
CREATED;VALUE=DATE-TIME:20241204T000000Z
CATEGORIES:Dansa,Festa,Infantils,Música,Familiar,Comerç
LOCATION:Pl. Ajuntament
ORGANIZER:Regidoria de Comerç de l'Ajuntament
COMMENT:Preu: Gratuït
DESCRIPTION:Encesa de l'arbre i de les llums i tret de sortida de la campanya de Nadal
URL:https://www.santsadurni.cat/document.php?id=21303
END:VEVENT
END:VCALENDAR