BEGIN:VCALENDAR
VERSION:2.0
PRODID:-//Plone.org//NONSGML plone.app.event//EN
X-WR-TIMEZONE:Europe/Madrid
BEGIN:VEVENT
SUMMARY:Xerrada Aromateràpia i Gestió Emocional
DTSTART;TZID=Europe/Madrid;VALUE=DATE-TIME:20241203T190000
DTEND;TZID=Europe/Madrid;VALUE=DATE-TIME:20241203T200000
DTSTAMP;VALUE=DATE-TIME:20260425T053839Z
UID:d3a3c7fe5099dc92f062fe2d3c44258f
CREATED;VALUE=DATE-TIME:20241203T000000Z
CATEGORIES:Cursos
LOCATION:Índex. Servei de Joventut - Cr. Pompeu Fabra, 34
ORGANIZER:Associació Terra de Dones
COMMENT:Preu: Gratuit
Durada: 19-20h
URL:https://www.santsadurni.cat/document.php?id=21306
END:VEVENT
END:VCALENDAR