BEGIN:VCALENDAR
VERSION:2.0
PRODID:-//Plone.org//NONSGML plone.app.event//EN
X-WR-TIMEZONE:Europe/Madrid
BEGIN:VEVENT
SUMMARY:Xerrada sobre l'Alzheimer
DTSTART;TZID=Europe/Madrid;VALUE=DATE-TIME:20250207T170000
DTEND;TZID=Europe/Madrid;VALUE=DATE-TIME:20250207T180000
DTSTAMP;VALUE=DATE-TIME:20260425T145247Z
UID:4e0e5f079c0cb5473c624d4707f3b7a2
CREATED;VALUE=DATE-TIME:20250207T000000Z
CATEGORIES:Conferència
LOCATION:Casal Municipal de la Gent Gran Sant Sadurní - Ps. Can Ferrer 11
ORGANIZER:Farmàcia Anna Ferrer i Casal Municipal.
COMMENT:Preu: Gratuït
Durada: Una hora aprox.
URL:https://www.santsadurni.cat/document.php?id=21509
END:VEVENT
END:VCALENDAR