BEGIN:VCALENDAR
VERSION:2.0
PRODID:-//Plone.org//NONSGML plone.app.event//EN
X-WR-TIMEZONE:Europe/Madrid
BEGIN:VEVENT
SUMMARY:Tast de vins i formatges
DTSTART;TZID=Europe/Madrid;VALUE=DATE-TIME:20250207T200000
DTEND;TZID=Europe/Madrid;VALUE=DATE-TIME:20250207T210000
DTSTAMP;VALUE=DATE-TIME:20260425T160351Z
UID:80b973679a86e7b1d1d13ca8ef752c1b
CREATED;VALUE=DATE-TIME:20250207T000000Z
CATEGORIES:Vins i caves
LOCATION:Cal Feru eno·botiga
ORGANIZER:Cal Feru eno·botiga
COMMENT:Preu: 38
Durada: 2 hores
URL:https://www.santsadurni.cat/document.php?id=21514
END:VEVENT
END:VCALENDAR