BEGIN:VCALENDAR
VERSION:2.0
PRODID:-//Plone.org//NONSGML plone.app.event//EN
X-WR-TIMEZONE:Europe/Madrid
BEGIN:VEVENT
SUMMARY:Saps d'on venen els teus Kg de més?
DTSTART;TZID=Europe/Madrid;VALUE=DATE-TIME:20250131T103000
DTEND;TZID=Europe/Madrid;VALUE=DATE-TIME:20250131T113000
DTSTAMP;VALUE=DATE-TIME:20260425T024328Z
UID:c9af44fa4781b04243124715131993e5
CREATED;VALUE=DATE-TIME:20250131T000000Z
CATEGORIES:Conferència
ORGANIZER:Farmàcia Anna Ferrer
COMMENT:Preu: Gratuït, places limitades a 6 persones per torn. Reserves 616279170
Durada: Durada 45 min i es fan dos torns a ls 10:30h i a les 19h el dijous 30 de gener
DESCRIPTION:Aprimar-se és més que menjar adequadament
URL:https://www.santsadurni.cat/document.php?id=21519
END:VEVENT
END:VCALENDAR