BEGIN:VCALENDAR
VERSION:2.0
PRODID:-//Plone.org//NONSGML plone.app.event//EN
X-WR-TIMEZONE:Europe/Madrid
BEGIN:VEVENT
SUMMARY:Més enllà dels fogots: Clau metabòlica i hormonal de la menopausa
DTSTART;TZID=Europe/Madrid;VALUE=DATE-TIME:20250220T103000
DTEND;TZID=Europe/Madrid;VALUE=DATE-TIME:20250220T113000
DTSTAMP;VALUE=DATE-TIME:20260425T040455Z
UID:0541618d7e90b5a10b442a9edbde5da2
CREATED;VALUE=DATE-TIME:20250220T000000Z
CATEGORIES:Conferència
LOCATION:FARMÀCIA ANNA FERRER
ORGANIZER:Farmàcia Anna Ferrer
COMMENT:Preu: Gratuït, places limitades a 10 persones per torn. Reserves 616279170
Durada: Durada 45 min i es fan dos torns a les 10:30h i a les 19h el dijous 20 de febrer
DESCRIPTION:Tenir la menopausa no és tabú sinó anys de vida i experiències
URL:https://www.santsadurni.cat/document.php?id=21526
END:VEVENT
END:VCALENDAR