BEGIN:VCALENDAR
VERSION:2.0
PRODID:-//Plone.org//NONSGML plone.app.event//EN
X-WR-TIMEZONE:Europe/Madrid
BEGIN:VEVENT
SUMMARY:Sortida Cultural Museu de la Vida Rural
DTSTART;TZID=Europe/Madrid;VALUE=DATE-TIME:20250212T081500
DTEND;TZID=Europe/Madrid;VALUE=DATE-TIME:20250212T091500
DTSTAMP;VALUE=DATE-TIME:20260425T052500Z
UID:bcc26f066c0d6e6b21d1248da2355b24
CREATED;VALUE=DATE-TIME:20250212T000000Z
CATEGORIES:Visita guiada
URL:https://www.santsadurni.cat/document.php?id=21529
END:VEVENT
END:VCALENDAR