BEGIN:VCALENDAR
VERSION:2.0
PRODID:-//Plone.org//NONSGML plone.app.event//EN
X-WR-TIMEZONE:Europe/Madrid
BEGIN:VEVENT
SUMMARY:Assemblea Ordinària Associació Jubilats
DTSTART;TZID=Europe/Madrid;VALUE=DATE-TIME:20250219T170000
DTEND;TZID=Europe/Madrid;VALUE=DATE-TIME:20250219T180000
DTSTAMP;VALUE=DATE-TIME:20260425T040630Z
UID:6639f17a833d2192428ab8801896271f
CREATED;VALUE=DATE-TIME:20250219T000000Z
LOCATION:Esplai La Caixa
URL:https://www.santsadurni.cat/document.php?id=21531
END:VEVENT
END:VCALENDAR