BEGIN:VCALENDAR
VERSION:2.0
PRODID:-//Plone.org//NONSGML plone.app.event//EN
X-WR-TIMEZONE:Europe/Madrid
BEGIN:VEVENT
SUMMARY:Hora del conte "Les disfresses del Sr. Prudenci" a càrrec de La Maleta de Lili
DTSTART;TZID=Europe/Madrid;VALUE=DATE-TIME:20250219T173000
DTEND;TZID=Europe/Madrid;VALUE=DATE-TIME:20250219T183000
DTSTAMP;VALUE=DATE-TIME:20260425T050222Z
UID:64f27deed6b0dd01d90a5c01d38ed421
CREATED;VALUE=DATE-TIME:20250219T000000Z
CATEGORIES:Literatura,Infantils
LOCATION:Biblioteca Ramon Bosch de Noya - Plaça 1er Homenatge a la Vellesa, 10
ORGANIZER:Biblioteca Municipal
COMMENT:Durada: 40 minuts
DESCRIPTION:Per a públic familiar amb infants a partir d' I3, sense inscripció prèvia
URL:https://www.santsadurni.cat/document.php?id=21544
END:VEVENT
END:VCALENDAR