BEGIN:VCALENDAR
VERSION:2.0
PRODID:-//Plone.org//NONSGML plone.app.event//EN
X-WR-TIMEZONE:Europe/Madrid
BEGIN:VEVENT
SUMMARY:Ple municipal
DTSTART;TZID=Europe/Madrid;VALUE=DATE-TIME:20250128T193000
DTEND;TZID=Europe/Madrid;VALUE=DATE-TIME:20250128T203000
DTSTAMP;VALUE=DATE-TIME:20260425T052012Z
UID:273dddec5ecac286e5408612d75f5641
CREATED;VALUE=DATE-TIME:20250128T000000Z
LOCATION:Ajuntament de Sant Sadurní - Pl. Ajuntament 1
URL:https://www.santsadurni.cat/document.php?id=21563
END:VEVENT
END:VCALENDAR