BEGIN:VCALENDAR
VERSION:2.0
PRODID:-//Plone.org//NONSGML plone.app.event//EN
X-WR-TIMEZONE:Europe/Madrid
BEGIN:VEVENT
SUMMARY:Taller de constel·lacions familiars: dinàmiques sistémiques
DTSTART;TZID=Europe/Madrid;VALUE=DATE-TIME:20250220T180000
DTEND;TZID=Europe/Madrid;VALUE=DATE-TIME:20250220T190000
DTSTAMP;VALUE=DATE-TIME:20260425T051409Z
UID:77a600b23972871902347c7a0d83b4dc
CREATED;VALUE=DATE-TIME:20250220T000000Z
CATEGORIES:Conferència,Familiar
LOCATION:Casal d'Entitats - Cr. Marc Mir, 15
ORGANIZER:Terra De Dones
COMMENT:Preu: 30
Durada: 18-20h
DESCRIPTION:Ocupar el meu Lloc al sistema familiar
URL:https://www.santsadurni.cat/document.php?id=21611
END:VEVENT
END:VCALENDAR