BEGIN:VCALENDAR
VERSION:2.0
PRODID:-//Plone.org//NONSGML plone.app.event//EN
X-WR-TIMEZONE:Europe/Madrid
BEGIN:VEVENT
SUMMARY:Visita de la Unitat Mòbil d'informació al consumidor
DTSTART;TZID=Europe/Madrid;VALUE=DATE-TIME:20250220T103000
DTEND;TZID=Europe/Madrid;VALUE=DATE-TIME:20250220T113000
DTSTAMP;VALUE=DATE-TIME:20260425T051957Z
UID:48499d9e20b9bdeced566fb9b98253e3
CREATED;VALUE=DATE-TIME:20250220T000000Z
LOCATION:Era d'en Guineu
ORGANIZER:Diputació de Barcelona
COMMENT:Durada: De 10:30 a 13h
URL:https://www.santsadurni.cat/document.php?id=21615
END:VEVENT
END:VCALENDAR