BEGIN:VCALENDAR
VERSION:2.0
PRODID:-//Plone.org//NONSGML plone.app.event//EN
X-WR-TIMEZONE:Europe/Madrid
BEGIN:VEVENT
SUMMARY:Conferència &OpenCurlyDoubleQuote;Oficis que es perden a Sant Sadurní: Mostra de treballs de Jaume Marigó i Vendrell&CloseCurlyDoubleQuote; a càrrec de Rafael Jariod
DTSTART;TZID=Europe/Madrid;VALUE=DATE-TIME:20250319T190000
DTEND;TZID=Europe/Madrid;VALUE=DATE-TIME:20250319T200000
DTSTAMP;VALUE=DATE-TIME:20260425T160703Z
UID:efdccf342499bb248aba5f4c811d2c0d
CREATED;VALUE=DATE-TIME:20250319T000000Z
CATEGORIES:Conferència
LOCATION:Biblioteca Ramon Bosch de Noya - Plaça 1er Homenatge a la Vellesa, 10
ORGANIZER:Biblioteca Municipal en col·laboració amb CC ONG - Secció Cultura
URL:https://www.santsadurni.cat/document.php?id=21622
END:VEVENT
END:VCALENDAR