BEGIN:VCALENDAR
VERSION:2.0
PRODID:-//Plone.org//NONSGML plone.app.event//EN
X-WR-TIMEZONE:Europe/Madrid
BEGIN:VEVENT
SUMMARY:Alimentació saludable, què és?
DTSTART;TZID=Europe/Madrid;VALUE=DATE-TIME:20250306T190000
DTEND;TZID=Europe/Madrid;VALUE=DATE-TIME:20250306T200000
DTSTAMP;VALUE=DATE-TIME:20260425T132509Z
UID:304f052a7a216273b5bbbcef1b9cb9a7
CREATED;VALUE=DATE-TIME:20250306T000000Z
CATEGORIES:Conferència
LOCATION:Biblioteca Ramon Bosch de Noya - Plaça 1er Homenatge a la Vellesa, 10
ORGANIZER:Club Esportiu SanSa Sua amb la col.laboració de la Farmàcia Anna Ferrer
COMMENT:Preu: Gratuït, reserva prèvia al whatsapp 616279170
Durada: Tindrà una durada de hora i mitja
DESCRIPTION:Xerrada- col.loqui per explicar i resoldre dubtes sobre l'alimentació
URL:https://www.santsadurni.cat/document.php?id=21632
END:VEVENT
END:VCALENDAR