BEGIN:VCALENDAR
VERSION:2.0
PRODID:-//Plone.org//NONSGML plone.app.event//EN
X-WR-TIMEZONE:Europe/Madrid
BEGIN:VEVENT
SUMMARY:Eucaristia del dimecres de cendra
DTSTART;TZID=Europe/Madrid;VALUE=DATE-TIME:20250305T200000
DTEND;TZID=Europe/Madrid;VALUE=DATE-TIME:20250305T210000
DTSTAMP;VALUE=DATE-TIME:20260425T145124Z
UID:3896e1794959c8b8dbf06a6db69ec752
CREATED;VALUE=DATE-TIME:20250305T000000Z
LOCATION:Església parroquial
ORGANIZER:Parròquia Sant Sadurní d'Anoia
URL:https://www.santsadurni.cat/document.php?id=21634
END:VEVENT
END:VCALENDAR