BEGIN:VCALENDAR
VERSION:2.0
PRODID:-//Plone.org//NONSGML plone.app.event//EN
X-WR-TIMEZONE:Europe/Madrid
BEGIN:VEVENT
SUMMARY:Portes Obertes IE Jacint Verdaguer
DTSTART;TZID=Europe/Madrid;VALUE=DATE-TIME:20250309T103000
DTEND;TZID=Europe/Madrid;VALUE=DATE-TIME:20250309T113000
DTSTAMP;VALUE=DATE-TIME:20260425T185314Z
UID:b4cb151ffcc7376961b44e9279d4a1ef
CREATED;VALUE=DATE-TIME:20250309T000000Z
CATEGORIES:Familiar
LOCATION:Institut Escola Jacint Verdaguer, c. Gelida, sn
ORGANIZER:Institut Escola Jacint Verdaguer i AFA del centre
COMMENT:Preu: Gratuït
Durada: A les 10: 30 i de 12h a 14h
DESCRIPTION:Jornada de Portes Obertes i visites prèvies personalitzades per a famílies noves
URL:https://www.santsadurni.cat/document.php?id=21640
END:VEVENT
END:VCALENDAR