BEGIN:VCALENDAR
VERSION:2.0
PRODID:-//Plone.org//NONSGML plone.app.event//EN
X-WR-TIMEZONE:Europe/Madrid
BEGIN:VEVENT
SUMMARY:Tardeo al Barri Vilarnau
DTSTART;TZID=Europe/Madrid;VALUE=DATE-TIME:20250323T170000
DTEND;TZID=Europe/Madrid;VALUE=DATE-TIME:20250323T180000
DTSTAMP;VALUE=DATE-TIME:20260421T173558Z
UID:8918ca54afb7e4758edd64143763825f
CREATED;VALUE=DATE-TIME:20250323T000000Z
CATEGORIES:Festa
ORGANIZER:Associació Barri Vilarnau
URL:https://www.santsadurni.cat/document.php?id=21666
END:VEVENT
END:VCALENDAR