BEGIN:VCALENDAR
VERSION:2.0
PRODID:-//Plone.org//NONSGML plone.app.event//EN
X-WR-TIMEZONE:Europe/Madrid
BEGIN:VEVENT
SUMMARY:Dissabtes de joc
DTSTART;TZID=Europe/Madrid;VALUE=DATE-TIME:20250329T110000
DTEND;TZID=Europe/Madrid;VALUE=DATE-TIME:20250329T120000
DTSTAMP;VALUE=DATE-TIME:20260425T050720Z
UID:bd0133130442e21ef5c7938e286a8689
CREATED;VALUE=DATE-TIME:20250329T000000Z
CATEGORIES:Literatura,Infantils,Familiar
LOCATION:Biblioteca Ramon Bosch de Noya - Plaça 1er Homenatge a la Vellesa, 10
ORGANIZER:Biblioteca Municipal Ramon Bosch de Noya
COMMENT:Preu: Gratuït, sense inscripció prèvia
Durada: De 09:30 a 13:30
DESCRIPTION:Jocs de taula a la sala infantil de la biblioteca
URL:https://www.santsadurni.cat/document.php?id=21679
END:VEVENT
END:VCALENDAR