BEGIN:VCALENDAR
VERSION:2.0
PRODID:-//Plone.org//NONSGML plone.app.event//EN
X-WR-TIMEZONE:Europe/Madrid
BEGIN:VEVENT
SUMMARY:Tardeo La Perla amb el millor tribut de QUEEN
DTSTART;TZID=Europe/Madrid;VALUE=DATE-TIME:20250328T190000
DTEND;TZID=Europe/Madrid;VALUE=DATE-TIME:20250328T200000
DTSTAMP;VALUE=DATE-TIME:20260421T101506Z
UID:5db4b5f3f9ea610f46edf6f1bfe29208
CREATED;VALUE=DATE-TIME:20250328T000000Z
CATEGORIES:Música,Vins i caves,Gastronomia
LOCATION:Restaurant La Perla
ORGANIZER:Restaurant La Perla
COMMENT:Durada: Tardeo a partir de les 19:00 i concert a partir de les 21;30
DESCRIPTION:Gastronomia, vins i caves i la millor música de LA REINA ROCK BAND
URL:https://www.santsadurni.cat/document.php?id=21689
END:VEVENT
END:VCALENDAR