BEGIN:VCALENDAR
VERSION:2.0
PRODID:-//Plone.org//NONSGML plone.app.event//EN
X-WR-TIMEZONE:Europe/Madrid
BEGIN:VEVENT
SUMMARY:Caminada pel Camí del Riu
DTSTART;TZID=Europe/Madrid;VALUE=DATE-TIME:20250601T090000
DTEND;TZID=Europe/Madrid;VALUE=DATE-TIME:20250601T100000
DTSTAMP;VALUE=DATE-TIME:20260421T172518Z
UID:0f2120ef0f276d426e4b63ace98f8b7c
CREATED;VALUE=DATE-TIME:20250601T000000Z
LOCATION:Aparcament Caves Can Codorniu
ORGANIZER:Ajuntaments del camí del riu
COMMENT:Preu: Gratuït
Durada: 5 hores
DESCRIPTION:Vine a passejar per qualsevol dels següents trams del Camí del Riu fins a Torrelavit
URL:https://www.santsadurni.cat/document.php?id=21707
END:VEVENT
END:VCALENDAR