BEGIN:VCALENDAR
VERSION:2.0
PRODID:-//Plone.org//NONSGML plone.app.event//EN
X-WR-TIMEZONE:Europe/Madrid
BEGIN:VEVENT
SUMMARY:Diada de Sant Josep
DTSTART;TZID=Europe/Madrid;VALUE=DATE-TIME:20250316T110000
DTEND;TZID=Europe/Madrid;VALUE=DATE-TIME:20250316T120000
DTSTAMP;VALUE=DATE-TIME:20260421T223620Z
UID:ad7c9925774554c90493a767d854d9e3
CREATED;VALUE=DATE-TIME:20250316T000000Z
CATEGORIES:Familiar
LOCATION:Col.legi Sant Josep, c.Germans Sant Gabriel, 2
ORGANIZER:Col.legi Sant Josep
URL:https://www.santsadurni.cat/document.php?id=21708
END:VEVENT
END:VCALENDAR