BEGIN:VCALENDAR
VERSION:2.0
PRODID:-//Plone.org//NONSGML plone.app.event//EN
X-WR-TIMEZONE:Europe/Madrid
BEGIN:VEVENT
SUMMARY:Taller Infantil al Mercat
DTSTART;TZID=Europe/Madrid;VALUE=DATE-TIME:20250322T103000
DTEND;TZID=Europe/Madrid;VALUE=DATE-TIME:20250322T113000
DTSTAMP;VALUE=DATE-TIME:20260425T160253Z
UID:4c59d9b6e4c257ffed4d6cb369160c41
CREATED;VALUE=DATE-TIME:20250322T000000Z
CATEGORIES:Infantils,Familiar,Comerç
LOCATION:Pl. Ajuntament - Mercat setmanal de dissabte
ORGANIZER:Regidoria de Comerç de l'Ajuntament
COMMENT:Preu: Gratuït
Durada: Fins a les 14h aprox
DESCRIPTION:Campanya de sensibilització: "Puja al carro, tria sostenibilitat"
URL:https://www.santsadurni.cat/document.php?id=21724
END:VEVENT
END:VCALENDAR