BEGIN:VCALENDAR
VERSION:2.0
PRODID:-//Plone.org//NONSGML plone.app.event//EN
X-WR-TIMEZONE:Europe/Madrid
BEGIN:VEVENT
SUMMARY:Presentació del projecte per a l'impuls de l'ocupació dels locals buits
DTSTART;TZID=Europe/Madrid;VALUE=DATE-TIME:20250325T130000
DTEND;TZID=Europe/Madrid;VALUE=DATE-TIME:20250325T140000
DTSTAMP;VALUE=DATE-TIME:20260425T052445Z
UID:607cf9fabdfa39c5534899872dc836ad
CREATED;VALUE=DATE-TIME:20250325T000000Z
CATEGORIES:Ajuntament,Comerç,Agenda de l'alcalde
LOCATION:c/Raval 21
URL:https://www.santsadurni.cat/document.php?id=21762
END:VEVENT
END:VCALENDAR