BEGIN:VCALENDAR
VERSION:2.0
PRODID:-//Plone.org//NONSGML plone.app.event//EN
X-WR-TIMEZONE:Europe/Madrid
BEGIN:VEVENT
SUMMARY:Tardeo a La Perla amb Miri's Way Band
DTSTART;TZID=Europe/Madrid;VALUE=DATE-TIME:20250404T190000
DTEND;TZID=Europe/Madrid;VALUE=DATE-TIME:20250404T200000
DTSTAMP;VALUE=DATE-TIME:20260425T063015Z
UID:d1b60e1cd943bddfe18d4c292444491c
CREATED;VALUE=DATE-TIME:20250404T000000Z
CATEGORIES:Música,Familiar,Vins i caves,Gastronomia
LOCATION:Restaurant La Perla
ORGANIZER:Roig Alemany Distribucions S.L
COMMENT:Durada: Tardeo a partir de les 19:00 i concert a partir de les 21:30
DESCRIPTION:Gastronomia, vins i caves i la millor música dels 80 a LA PERLA
URL:https://www.santsadurni.cat/document.php?id=21810
END:VEVENT
END:VCALENDAR