BEGIN:VCALENDAR
VERSION:2.0
PRODID:-//Plone.org//NONSGML plone.app.event//EN
X-WR-TIMEZONE:Europe/Madrid
BEGIN:VEVENT
SUMMARY:Visita i tast del cava del mes al Cava Centre
DTSTART;TZID=Europe/Madrid;VALUE=DATE-TIME:20260201T000000
DTEND;TZID=Europe/Madrid;VALUE=DATE-TIME:20260201T010000
DTSTAMP;VALUE=DATE-TIME:20260422T002813Z
UID:48bb51031ed7728da4f86c9be7336818
CREATED;VALUE=DATE-TIME:20260201T000000Z
CATEGORIES:Visita guiada,Vins i caves
LOCATION:Cava Centre - Cr. Hospital 23 (entrada al Centre i a l'Oficina de Turisme)
ORGANIZER:Ajuntament de Sant Sadurní d'Anoia
Servei de Turisme
COMMENT:Preu: 6,00 &euro;. Descomptes per a infants, jubilats/des i residents
Durada: 1 hora
DESCRIPTION:Aquest mes et convidem a descobrir la puresa de la Parellada feta cava, amb el tast de Mascaró Pure Reserva Brut Nature
URL:https://www.santsadurni.cat/document.php?id=21830
END:VEVENT
END:VCALENDAR