BEGIN:VCALENDAR
VERSION:2.0
PRODID:-//Plone.org//NONSGML plone.app.event//EN
X-WR-TIMEZONE:Europe/Madrid
BEGIN:VEVENT
SUMMARY:Cantata escolar KLK
DTSTART;TZID=Europe/Madrid;VALUE=DATE-TIME:20250508T200000
DTEND;TZID=Europe/Madrid;VALUE=DATE-TIME:20250508T210000
DTSTAMP;VALUE=DATE-TIME:20260420T195453Z
UID:98d3b4f62f6604a5451424f0fdb16baa
CREATED;VALUE=DATE-TIME:20250508T000000Z
CATEGORIES:Música
LOCATION:Pavelló hoquei Col·legi Sant Josep
ORGANIZER:Servei d'Eduació i Escola Municipal de Música
COMMENT:Durada: 1h
URL:https://www.santsadurni.cat/document.php?id=21894
END:VEVENT
END:VCALENDAR