BEGIN:VCALENDAR
VERSION:2.0
PRODID:-//Plone.org//NONSGML plone.app.event//EN
X-WR-TIMEZONE:Europe/Madrid
BEGIN:VEVENT
SUMMARY:Ritmiks
DTSTART;TZID=Europe/Madrid;VALUE=DATE-TIME:20250531T110000
DTEND;TZID=Europe/Madrid;VALUE=DATE-TIME:20250531T120000
DTSTAMP;VALUE=DATE-TIME:20260421T173429Z
UID:00cb1e74876582860459e7d61edc7e04
CREATED;VALUE=DATE-TIME:20250531T000000Z
CATEGORIES:Música,Familiar
LOCATION:Celler Fassina Can Guineu - c/ Sant Pere, 42
ORGANIZER:Escola Municipal de Música
COMMENT:Preu: Gratuït
Durada: Entre les 11h i les 13:30h (aproximadament)
DESCRIPTION:Festival Joves Músics Europeus
URL:https://www.santsadurni.cat/document.php?id=21911
END:VEVENT
END:VCALENDAR