BEGIN:VCALENDAR
VERSION:2.0
PRODID:-//Plone.org//NONSGML plone.app.event//EN
X-WR-TIMEZONE:Europe/Madrid
BEGIN:VEVENT
SUMMARY:Subhasta de les obres del projecte SOLIDART i inauguració del mural
DTSTART;TZID=Europe/Madrid;VALUE=DATE-TIME:20250606T190000
DTEND;TZID=Europe/Madrid;VALUE=DATE-TIME:20250606T200000
DTSTAMP;VALUE=DATE-TIME:20260422T034806Z
UID:4843e4e4dc6f14838c64943cb40bb9a5
CREATED;VALUE=DATE-TIME:20250606T000000Z
CATEGORIES:Exposició,Infantils,Música,Familiar,Comerç
LOCATION:Aparcament del centre
ORGANIZER:Escola Intermunicipal del Penedès, SOM Sant Sadurní i la Regidoria de Comerç de l'Ajuntament.
COMMENT:Preu: Gratuït
Durada: 1 hora aprox.
DESCRIPTION:Un projecte impulsat per l'Institut Intermunicipal en col·laboració amb l'associació de comerciants SOM Sant Sadurní i amb el suport de l'Ajuntament.
URL:https://www.santsadurni.cat/document.php?id=21960
END:VEVENT
END:VCALENDAR