BEGIN:VCALENDAR
VERSION:2.0
PRODID:-//Plone.org//NONSGML plone.app.event//EN
X-WR-TIMEZONE:Europe/Madrid
BEGIN:VEVENT
SUMMARY:Classes obertes d'acrobàcia
DTSTART;TZID=Europe/Madrid;VALUE=DATE-TIME:20250508T173000
DTEND;TZID=Europe/Madrid;VALUE=DATE-TIME:20250508T183000
DTSTAMP;VALUE=DATE-TIME:20260420T194849Z
UID:8dccd91de422abd13f3061d3af06e314
CREATED;VALUE=DATE-TIME:20250508T000000Z
CATEGORIES:Dansa,Infantils,Familiar,Formació
LOCATION:ass. Cascavells Psj. Can Ferrer del Mas, 9
ORGANIZER:Ass. Cascavells
COMMENT:Preu: Gratis (cal reservar plaça)
DESCRIPTION:Celebració Dia Internacional de la Dansa 2025
URL:https://www.santsadurni.cat/document.php?id=21980
END:VEVENT
END:VCALENDAR