BEGIN:VCALENDAR
VERSION:2.0
PRODID:-//Plone.org//NONSGML plone.app.event//EN
X-WR-TIMEZONE:Europe/Madrid
BEGIN:VEVENT
SUMMARY:Tast de coques de Sant Joan amb bombolles festives
DTSTART;TZID=Europe/Madrid;VALUE=DATE-TIME:20250621T190000
DTEND;TZID=Europe/Madrid;VALUE=DATE-TIME:20250621T200000
DTSTAMP;VALUE=DATE-TIME:20260422T033411Z
UID:7d70f85cc89035ec7978d44661709bc1
CREATED;VALUE=DATE-TIME:20250621T000000Z
CATEGORIES:Vins i caves,Gastronomia
LOCATION:Pati del Cava Centre - Cr. Hospital 23 (entrada al Centre i a l'Oficina de Turisme)
ORGANIZER:Ajuntament de Sant Sadurní d'Anoia
Servei de Turisme
COMMENT:Preu: 20,00 &euro;. Vull comprar entrada
Durada: 1,5 hores
DESCRIPTION:Marida'm. Cicle de tastos de temporada al Cava Centre
URL:https://www.santsadurni.cat/document.php?id=21998
END:VEVENT
END:VCALENDAR