BEGIN:VCALENDAR
VERSION:2.0
PRODID:-//Plone.org//NONSGML plone.app.event//EN
X-WR-TIMEZONE:Europe/Madrid
BEGIN:VEVENT
SUMMARY:Visita i tast del cava del mes al Cava Centre
DTSTART;TZID=Europe/Madrid;VALUE=DATE-TIME:20250531T000000
DTEND;TZID=Europe/Madrid;VALUE=DATE-TIME:20250531T010000
DTSTAMP;VALUE=DATE-TIME:20260421T144742Z
UID:23d9b0f0056849d354d23e9ef0e57a94
CREATED;VALUE=DATE-TIME:20250501T000000Z
CATEGORIES:Vins i caves
LOCATION:Cava Centre - Cr. Hospital 23 (entrada al Centre i a l'Oficina de Turisme)
ORGANIZER:Ajuntament de Sant Sadurní d'AnoiaServei de Turisme
COMMENT:Preu: 6 /persona. Descomptes per a jubilats/des, infants, estudiants i famílies nombroses.
Durada: 1 hora
DESCRIPTION:Pagès Entrena Brut Nature Gran Reserva 2018
URL:https://www.santsadurni.cat/document.php?id=22049
END:VEVENT
END:VCALENDAR