BEGIN:VCALENDAR
VERSION:2.0
PRODID:-//Plone.org//NONSGML plone.app.event//EN
X-WR-TIMEZONE:Europe/Madrid
BEGIN:VEVENT
SUMMARY:Les guerres oblidades a l'Àfrica
DTSTART;TZID=Europe/Madrid;VALUE=DATE-TIME:20250610T170000
DTEND;TZID=Europe/Madrid;VALUE=DATE-TIME:20250610T180000
DTSTAMP;VALUE=DATE-TIME:20260424T211551Z
UID:ad65f9861cfe100ed2f68a7e45a1b8be
CREATED;VALUE=DATE-TIME:20250610T000000Z
CATEGORIES:Formació
LOCATION:Carrer Sant Antoni, 45
ORGANIZER:CC ONG Ajuda al Desenvolupament Secció Cooperació Internacional
COMMENT:Preu: Accés lliure
Durada: Una hora i mitja
URL:https://www.santsadurni.cat/document.php?id=22061
END:VEVENT
END:VCALENDAR