BEGIN:VCALENDAR
VERSION:2.0
PRODID:-//Plone.org//NONSGML plone.app.event//EN
X-WR-TIMEZONE:Europe/Madrid
BEGIN:VEVENT
SUMMARY:Trobada de Bestiari
DTSTART;TZID=Europe/Madrid;VALUE=DATE-TIME:20250705T190000
DTEND;TZID=Europe/Madrid;VALUE=DATE-TIME:20250705T200000
DTSTAMP;VALUE=DATE-TIME:20260425T053532Z
UID:ea1fcff1c2fea4332757e381464d03e7
CREATED;VALUE=DATE-TIME:20250705T000000Z
CATEGORIES:Festa
LOCATION:Pl. Ajuntament
ORGANIZER:Ajuntament de Sant Sadurní d'Anoia i Diables Se m'n Refum
URL:https://www.santsadurni.cat/document.php?id=22101
END:VEVENT
END:VCALENDAR