BEGIN:VCALENDAR
VERSION:2.0
PRODID:-//Plone.org//NONSGML plone.app.event//EN
X-WR-TIMEZONE:Europe/Madrid
BEGIN:VEVENT
SUMMARY:Plantem Vida
DTSTART;TZID=Europe/Madrid;VALUE=DATE-TIME:20250601T093000
DTEND;TZID=Europe/Madrid;VALUE=DATE-TIME:20250601T103000
DTSTAMP;VALUE=DATE-TIME:20260422T021507Z
UID:823c06d7717037cc0483539495e21768
CREATED;VALUE=DATE-TIME:20250601T000000Z
CATEGORIES:Familiar
LOCATION:Can Mas de la Riera
ORGANIZER:CAP St Sadurní  i  ADF St Sadurní
COMMENT:Preu: gratuït
Durada: 3
DESCRIPTION:plantada popular d'arbres per recuperar l'entorn natural de Can Mas de la Riera
URL:https://www.santsadurni.cat/document.php?id=22119
END:VEVENT
END:VCALENDAR