BEGIN:VCALENDAR
VERSION:2.0
PRODID:-//Plone.org//NONSGML plone.app.event//EN
X-WR-TIMEZONE:Europe/Madrid
BEGIN:VEVENT
SUMMARY:Taller d'Upcycling: Aprèn a transformar uns texans en una bossa única i personalitzada
DTSTART;TZID=Europe/Madrid;VALUE=DATE-TIME:20250610T180000
DTEND;TZID=Europe/Madrid;VALUE=DATE-TIME:20250610T190000
DTSTAMP;VALUE=DATE-TIME:20260424T211145Z
UID:2d05fd1ff150baec4b74e791b8af3b48
CREATED;VALUE=DATE-TIME:20250610T000000Z
LOCATION:Centre Vilarnau - Pl. Germans Segura Viudas s/n
ORGANIZER:Mancomunitat Penedès-Garraf i Ajuntament Sant Sadurní
URL:https://www.santsadurni.cat/document.php?id=22129
END:VEVENT
END:VCALENDAR