BEGIN:VCALENDAR
VERSION:2.0
PRODID:-//Plone.org//NONSGML plone.app.event//EN
X-WR-TIMEZONE:Europe/Madrid
BEGIN:VEVENT
SUMMARY:Inauguració de l'exposició "19a Mostra d'Art dels estudiants d'Amarts"
DTSTART;TZID=Europe/Madrid;VALUE=DATE-TIME:20250607T123000
DTEND;TZID=Europe/Madrid;VALUE=DATE-TIME:20250607T133000
DTSTAMP;VALUE=DATE-TIME:20260424T133101Z
UID:267b9e9b3196e16291deda0c7d90c21c
CREATED;VALUE=DATE-TIME:20250607T000000Z
CATEGORIES:Exposició,Mostra
LOCATION:Biblioteca Ramon Bosch de Noya - Plaça 1er Homenatge a la Vellesa, 10
ORGANIZER:Amarts amb la col·laboració de la Biblioteca i les caves Juvé & Camps
DESCRIPTION:L'exposició es podrà veure del 7 al 28 de juny del 2025 al claustre de la biblioteca
URL:https://www.santsadurni.cat/document.php?id=22130
END:VEVENT
END:VCALENDAR