BEGIN:VCALENDAR
VERSION:2.0
PRODID:-//Plone.org//NONSGML plone.app.event//EN
X-WR-TIMEZONE:Europe/Madrid
BEGIN:VEVENT
SUMMARY:"Si t'agrada escriure... t'escoltem!"
DTSTART;TZID=Europe/Madrid;VALUE=DATE-TIME:20250605T190000
DTEND;TZID=Europe/Madrid;VALUE=DATE-TIME:20250605T200000
DTSTAMP;VALUE=DATE-TIME:20260422T051211Z
UID:18bcd5bf2bf1a66080e793b2fbea1d91
CREATED;VALUE=DATE-TIME:20250605T000000Z
CATEGORIES:Literatura
LOCATION:Biblioteca Ramon Bosch de Noya - Plaça 1er Homenatge a la Vellesa, 10
ORGANIZER:Col·lectiu d&#700;Escriptors Tast de Paraules i Qwerty Club d&#700;Escriptura
URL:https://www.santsadurni.cat/document.php?id=22132
END:VEVENT
END:VCALENDAR