BEGIN:VCALENDAR
VERSION:2.0
PRODID:-//Plone.org//NONSGML plone.app.event//EN
X-WR-TIMEZONE:Europe/Madrid
BEGIN:VEVENT
SUMMARY:Tardeo La Perla amb Cuerdos Locos
DTSTART;TZID=Europe/Madrid;VALUE=DATE-TIME:20250606T190000
DTEND;TZID=Europe/Madrid;VALUE=DATE-TIME:20250606T200000
DTSTAMP;VALUE=DATE-TIME:20260422T051226Z
UID:846ffad53558935c4ce824aa29e05583
CREATED;VALUE=DATE-TIME:20250606T000000Z
CATEGORIES:Música,Vins i caves,Gastronomia
LOCATION:Restaurant La Perla
ORGANIZER:Restaurant La Perla
COMMENT:Durada: Pinxos i tapes a partir de les 19:00 i concert a partir de les 21:30
DESCRIPTION:Gastronomia, vins i caves i la millor música dels 80 i 90
URL:https://www.santsadurni.cat/document.php?id=22139
END:VEVENT
END:VCALENDAR