BEGIN:VCALENDAR
VERSION:2.0
PRODID:-//Plone.org//NONSGML plone.app.event//EN
X-WR-TIMEZONE:Europe/Madrid
BEGIN:VEVENT
SUMMARY:Taller de Mending: Descobreix tècniques creatives per reparar i embellir la teva roba, allargant-ne la vida útil
DTSTART;TZID=Europe/Madrid;VALUE=DATE-TIME:20250606T180000
DTEND;TZID=Europe/Madrid;VALUE=DATE-TIME:20250606T190000
DTSTAMP;VALUE=DATE-TIME:20260421T213206Z
UID:87a8da79932bde15b7cbee3c70bce077
CREATED;VALUE=DATE-TIME:20250606T000000Z
LOCATION:Centre Vilarnau - Pl. Germans Segura Viudas s/n
ORGANIZER:Mancomunitat Penedès-Garraf i Ajuntament Sant Sadurní
URL:https://www.santsadurni.cat/document.php?id=22147
END:VEVENT
END:VCALENDAR