BEGIN:VCALENDAR
VERSION:2.0
PRODID:-//Plone.org//NONSGML plone.app.event//EN
X-WR-TIMEZONE:Europe/Madrid
BEGIN:VEVENT
SUMMARY:Xerrada &OpenCurlyDoubleQuote;Català sense complexos&CloseCurlyDoubleQuote; a càrrec de Gerard Furest, professor, activista lingüístic i coordinador de llengua de La Intersindical Educació. Presentació de Francesc Llopart
DTSTART;TZID=Europe/Madrid;VALUE=DATE-TIME:20250610T190000
DTEND;TZID=Europe/Madrid;VALUE=DATE-TIME:20250610T200000
DTSTAMP;VALUE=DATE-TIME:20260424T195823Z
UID:129bae9cb4d3664f99652e7a957b2b06
CREATED;VALUE=DATE-TIME:20250610T000000Z
CATEGORIES:Conferència
LOCATION:Biblioteca Ramon Bosch de Noya
ORGANIZER:ANC i Òmnium Cultural amb la col·laboració de la Biblioteca Municipal
URL:https://www.santsadurni.cat/document.php?id=22150
END:VEVENT
END:VCALENDAR